BEGIN:VCALENDAR
VERSION:2.0
PRODID:-//WERA Forum - ECPv6.15.20//NONSGML v1.0//EN
CALSCALE:GREGORIAN
METHOD:PUBLISH
X-ORIGINAL-URL:https://weraforum.de
X-WR-CALDESC:Veranstaltungen für WERA Forum
REFRESH-INTERVAL;VALUE=DURATION:PT1H
X-Robots-Tag:noindex
X-PUBLISHED-TTL:PT1H
BEGIN:VTIMEZONE
TZID:Europe/Berlin
BEGIN:DAYLIGHT
TZOFFSETFROM:+0100
TZOFFSETTO:+0200
TZNAME:CEST
DTSTART:20250330T010000
END:DAYLIGHT
BEGIN:STANDARD
TZOFFSETFROM:+0200
TZOFFSETTO:+0100
TZNAME:CET
DTSTART:20251026T010000
END:STANDARD
BEGIN:DAYLIGHT
TZOFFSETFROM:+0100
TZOFFSETTO:+0200
TZNAME:CEST
DTSTART:20260329T010000
END:DAYLIGHT
BEGIN:STANDARD
TZOFFSETFROM:+0200
TZOFFSETTO:+0100
TZNAME:CET
DTSTART:20261025T010000
END:STANDARD
BEGIN:DAYLIGHT
TZOFFSETFROM:+0100
TZOFFSETTO:+0200
TZNAME:CEST
DTSTART:20270328T010000
END:DAYLIGHT
BEGIN:STANDARD
TZOFFSETFROM:+0200
TZOFFSETTO:+0100
TZNAME:CET
DTSTART:20271031T010000
END:STANDARD
END:VTIMEZONE
BEGIN:VEVENT
DTSTART;TZID=Europe/Berlin:20261101T100000
DTEND;TZID=Europe/Berlin:20261101T120000
DTSTAMP:20260422T124413
CREATED:20251121T143122Z
LAST-MODIFIED:20251121T143122Z
UID:363403-1793527200-1793534400@weraforum.de
SUMMARY:Gottesdienst
DESCRIPTION:
URL:https://weraforum.de/event/gottesdienst-92/
LOCATION:NRW
CATEGORIES:Weekly
END:VEVENT
BEGIN:VEVENT
DTSTART;TZID=Europe/Berlin:20261102T180000
DTEND;TZID=Europe/Berlin:20261102T200000
DTSTAMP:20260422T124413
CREATED:20251121T143123Z
LAST-MODIFIED:20251121T143123Z
UID:363405-1793642400-1793649600@weraforum.de
SUMMARY:Gebetsgottesdienst
DESCRIPTION:
URL:https://weraforum.de/event/gebetsgottesdienst-92/
LOCATION:NRW
CATEGORIES:Weekly
END:VEVENT
BEGIN:VEVENT
DTSTART;TZID=Europe/Berlin:20261103T063000
DTEND;TZID=Europe/Berlin:20261103T070000
DTSTAMP:20260422T124413
CREATED:20251121T143322Z
LAST-MODIFIED:20251121T143322Z
UID:363406-1793687400-1793689200@weraforum.de
SUMMARY:Morgengebet
DESCRIPTION:
URL:https://weraforum.de/event/morgengebet-92/
LOCATION:NRW
CATEGORIES:Weekly
END:VEVENT
BEGIN:VEVENT
DTSTART;TZID=Europe/Berlin:20261108T100000
DTEND;TZID=Europe/Berlin:20261108T120000
DTSTAMP:20260422T124413
CREATED:20251121T143322Z
LAST-MODIFIED:20251121T143322Z
UID:363407-1794132000-1794139200@weraforum.de
SUMMARY:Gottesdienst
DESCRIPTION:
URL:https://weraforum.de/event/gottesdienst-93/
LOCATION:NRW
CATEGORIES:Weekly
END:VEVENT
BEGIN:VEVENT
DTSTART;TZID=Europe/Berlin:20261109T180000
DTEND;TZID=Europe/Berlin:20261109T200000
DTSTAMP:20260422T124413
CREATED:20251121T143323Z
LAST-MODIFIED:20251121T143323Z
UID:363409-1794247200-1794254400@weraforum.de
SUMMARY:Gebetsgottesdienst
DESCRIPTION:
URL:https://weraforum.de/event/gebetsgottesdienst-93/
LOCATION:NRW
CATEGORIES:Weekly
END:VEVENT
BEGIN:VEVENT
DTSTART;TZID=Europe/Berlin:20261110T063000
DTEND;TZID=Europe/Berlin:20261110T070000
DTSTAMP:20260422T124413
CREATED:20251121T143324Z
LAST-MODIFIED:20251121T143324Z
UID:363410-1794292200-1794294000@weraforum.de
SUMMARY:Morgengebet
DESCRIPTION:
URL:https://weraforum.de/event/morgengebet-93/
LOCATION:NRW
CATEGORIES:Weekly
END:VEVENT
BEGIN:VEVENT
DTSTART;VALUE=DATE:20261114
DTEND;VALUE=DATE:20261115
DTSTAMP:20260422T124413
CREATED:20251204T193810Z
LAST-MODIFIED:20251204T193810Z
UID:364176-1794614400-1794700799@weraforum.de
SUMMARY:Männerkonferenz „POWER“
DESCRIPTION:
URL:https://weraforum.de/event/maennerkonferenz-power/
LOCATION:Wera Forum Duisburg\, Albert-Hahn-Straße 20\, Duisburg\, NRW\, 47269
CATEGORIES:Events
ATTACH;FMTTYPE=image/jpeg:https://weraforum.de/wordpress/wp-content/uploads/power.jpg
END:VEVENT
BEGIN:VEVENT
DTSTART;TZID=Europe/Berlin:20261115T100000
DTEND;TZID=Europe/Berlin:20261115T120000
DTSTAMP:20260422T124413
CREATED:20251121T143523Z
LAST-MODIFIED:20251121T143523Z
UID:363411-1794736800-1794744000@weraforum.de
SUMMARY:Gottesdienst
DESCRIPTION:
URL:https://weraforum.de/event/gottesdienst-94/
LOCATION:NRW
CATEGORIES:Weekly
END:VEVENT
BEGIN:VEVENT
DTSTART;TZID=Europe/Berlin:20261116T180000
DTEND;TZID=Europe/Berlin:20261116T200000
DTSTAMP:20260422T124413
CREATED:20251121T143523Z
LAST-MODIFIED:20251121T143523Z
UID:363413-1794852000-1794859200@weraforum.de
SUMMARY:Gebetsgottesdienst
DESCRIPTION:
URL:https://weraforum.de/event/gebetsgottesdienst-94/
LOCATION:NRW
CATEGORIES:Weekly
END:VEVENT
BEGIN:VEVENT
DTSTART;TZID=Europe/Berlin:20261117T063000
DTEND;TZID=Europe/Berlin:20261117T070000
DTSTAMP:20260422T124413
CREATED:20251121T143524Z
LAST-MODIFIED:20251121T143524Z
UID:363414-1794897000-1794898800@weraforum.de
SUMMARY:Morgengebet
DESCRIPTION:
URL:https://weraforum.de/event/morgengebet-94/
LOCATION:NRW
CATEGORIES:Weekly
END:VEVENT
BEGIN:VEVENT
DTSTART;TZID=Europe/Berlin:20261122T100000
DTEND;TZID=Europe/Berlin:20261122T120000
DTSTAMP:20260422T124413
CREATED:20251121T143524Z
LAST-MODIFIED:20251121T143524Z
UID:363415-1795341600-1795348800@weraforum.de
SUMMARY:Gottesdienst
DESCRIPTION:
URL:https://weraforum.de/event/gottesdienst-95/
LOCATION:NRW
CATEGORIES:Weekly
END:VEVENT
BEGIN:VEVENT
DTSTART;TZID=Europe/Berlin:20261123T180000
DTEND;TZID=Europe/Berlin:20261123T200000
DTSTAMP:20260422T124413
CREATED:20251121T143724Z
LAST-MODIFIED:20251121T143724Z
UID:363417-1795456800-1795464000@weraforum.de
SUMMARY:Gebetsgottesdienst
DESCRIPTION:
URL:https://weraforum.de/event/gebetsgottesdienst-95/
LOCATION:NRW
CATEGORIES:Weekly
END:VEVENT
BEGIN:VEVENT
DTSTART;TZID=Europe/Berlin:20261124T063000
DTEND;TZID=Europe/Berlin:20261124T070000
DTSTAMP:20260422T124413
CREATED:20251121T143725Z
LAST-MODIFIED:20251121T143725Z
UID:363418-1795501800-1795503600@weraforum.de
SUMMARY:Morgengebet
DESCRIPTION:
URL:https://weraforum.de/event/morgengebet-95/
LOCATION:NRW
CATEGORIES:Weekly
END:VEVENT
BEGIN:VEVENT
DTSTART;TZID=Europe/Berlin:20261129T100000
DTEND;TZID=Europe/Berlin:20261129T120000
DTSTAMP:20260422T124413
CREATED:20251121T143725Z
LAST-MODIFIED:20251121T143725Z
UID:363419-1795946400-1795953600@weraforum.de
SUMMARY:Gottesdienst
DESCRIPTION:
URL:https://weraforum.de/event/gottesdienst-96/
LOCATION:NRW
CATEGORIES:Weekly
END:VEVENT
BEGIN:VEVENT
DTSTART;TZID=Europe/Berlin:20261130T180000
DTEND;TZID=Europe/Berlin:20261130T200000
DTSTAMP:20260422T124413
CREATED:20251121T143925Z
LAST-MODIFIED:20251121T143925Z
UID:363421-1796061600-1796068800@weraforum.de
SUMMARY:Gebetsgottesdienst
DESCRIPTION:
URL:https://weraforum.de/event/gebetsgottesdienst-96/
LOCATION:NRW
CATEGORIES:Weekly
END:VEVENT
END:VCALENDAR