BEGIN:VCALENDAR
VERSION:2.0
PRODID:-//WERA Forum - ECPv6.15.20//NONSGML v1.0//EN
CALSCALE:GREGORIAN
METHOD:PUBLISH
X-WR-CALNAME:WERA Forum
X-ORIGINAL-URL:https://weraforum.de
X-WR-CALDESC:Veranstaltungen für WERA Forum
REFRESH-INTERVAL;VALUE=DURATION:PT1H
X-Robots-Tag:noindex
X-PUBLISHED-TTL:PT1H
BEGIN:VTIMEZONE
TZID:Europe/Berlin
BEGIN:DAYLIGHT
TZOFFSETFROM:+0100
TZOFFSETTO:+0200
TZNAME:CEST
DTSTART:20250330T010000
END:DAYLIGHT
BEGIN:STANDARD
TZOFFSETFROM:+0200
TZOFFSETTO:+0100
TZNAME:CET
DTSTART:20251026T010000
END:STANDARD
BEGIN:DAYLIGHT
TZOFFSETFROM:+0100
TZOFFSETTO:+0200
TZNAME:CEST
DTSTART:20260329T010000
END:DAYLIGHT
BEGIN:STANDARD
TZOFFSETFROM:+0200
TZOFFSETTO:+0100
TZNAME:CET
DTSTART:20261025T010000
END:STANDARD
BEGIN:DAYLIGHT
TZOFFSETFROM:+0100
TZOFFSETTO:+0200
TZNAME:CEST
DTSTART:20270328T010000
END:DAYLIGHT
BEGIN:STANDARD
TZOFFSETFROM:+0200
TZOFFSETTO:+0100
TZNAME:CET
DTSTART:20271031T010000
END:STANDARD
END:VTIMEZONE
BEGIN:VEVENT
DTSTART;VALUE=DATE:20261004
DTEND;VALUE=DATE:20261005
DTSTAMP:20260422T111420
CREATED:20251204T193542Z
LAST-MODIFIED:20251204T193542Z
UID:364172-1791072000-1791158399@weraforum.de
SUMMARY:Geburtstag der Gemeinde
DESCRIPTION:
URL:https://weraforum.de/event/geburtstag-der-gemeinde/
LOCATION:Wera Forum Duisburg\, Albert-Hahn-Straße 20\, Duisburg\, NRW\, 47269
CATEGORIES:Interne Events
END:VEVENT
BEGIN:VEVENT
DTSTART;TZID=Europe/Berlin:20261004T100000
DTEND;TZID=Europe/Berlin:20261004T120000
DTSTAMP:20260422T111420
CREATED:20251121T142518Z
LAST-MODIFIED:20251121T142518Z
UID:363387-1791108000-1791115200@weraforum.de
SUMMARY:Gottesdienst
DESCRIPTION:
URL:https://weraforum.de/event/gottesdienst-88/
LOCATION:NRW
CATEGORIES:Weekly
END:VEVENT
BEGIN:VEVENT
DTSTART;TZID=Europe/Berlin:20261005T180000
DTEND;TZID=Europe/Berlin:20261005T200000
DTSTAMP:20260422T111420
CREATED:20251121T142519Z
LAST-MODIFIED:20251121T142519Z
UID:363389-1791223200-1791230400@weraforum.de
SUMMARY:Gebetsgottesdienst
DESCRIPTION:
URL:https://weraforum.de/event/gebetsgottesdienst-88/
LOCATION:NRW
CATEGORIES:Weekly
END:VEVENT
BEGIN:VEVENT
DTSTART;TZID=Europe/Berlin:20261006T063000
DTEND;TZID=Europe/Berlin:20261006T070000
DTSTAMP:20260422T111420
CREATED:20251121T142520Z
LAST-MODIFIED:20251121T142520Z
UID:363390-1791268200-1791270000@weraforum.de
SUMMARY:Morgengebet
DESCRIPTION:
URL:https://weraforum.de/event/morgengebet-88/
LOCATION:NRW
CATEGORIES:Weekly
END:VEVENT
BEGIN:VEVENT
DTSTART;TZID=Europe/Berlin:20261011T100000
DTEND;TZID=Europe/Berlin:20261011T120000
DTSTAMP:20260422T111420
CREATED:20251121T142719Z
LAST-MODIFIED:20251121T142719Z
UID:363391-1791712800-1791720000@weraforum.de
SUMMARY:Gottesdienst
DESCRIPTION:
URL:https://weraforum.de/event/gottesdienst-89/
LOCATION:NRW
CATEGORIES:Weekly
END:VEVENT
BEGIN:VEVENT
DTSTART;TZID=Europe/Berlin:20261012T180000
DTEND;TZID=Europe/Berlin:20261012T200000
DTSTAMP:20260422T111420
CREATED:20251121T142720Z
LAST-MODIFIED:20251121T142720Z
UID:363393-1791828000-1791835200@weraforum.de
SUMMARY:Gebetsgottesdienst
DESCRIPTION:
URL:https://weraforum.de/event/gebetsgottesdienst-89/
LOCATION:NRW
CATEGORIES:Weekly
END:VEVENT
BEGIN:VEVENT
DTSTART;TZID=Europe/Berlin:20261013T063000
DTEND;TZID=Europe/Berlin:20261013T070000
DTSTAMP:20260422T111420
CREATED:20251121T142721Z
LAST-MODIFIED:20251121T142721Z
UID:363394-1791873000-1791874800@weraforum.de
SUMMARY:Morgengebet
DESCRIPTION:
URL:https://weraforum.de/event/morgengebet-89/
LOCATION:NRW
CATEGORIES:Weekly
END:VEVENT
BEGIN:VEVENT
DTSTART;TZID=Europe/Berlin:20261018T100000
DTEND;TZID=Europe/Berlin:20261018T120000
DTSTAMP:20260422T111420
CREATED:20251121T142721Z
LAST-MODIFIED:20251121T142721Z
UID:363395-1792317600-1792324800@weraforum.de
SUMMARY:Gottesdienst
DESCRIPTION:
URL:https://weraforum.de/event/gottesdienst-90/
LOCATION:NRW
CATEGORIES:Weekly
END:VEVENT
BEGIN:VEVENT
DTSTART;TZID=Europe/Berlin:20261019T180000
DTEND;TZID=Europe/Berlin:20261019T200000
DTSTAMP:20260422T111420
CREATED:20251121T142921Z
LAST-MODIFIED:20251121T142921Z
UID:363397-1792432800-1792440000@weraforum.de
SUMMARY:Gebetsgottesdienst
DESCRIPTION:
URL:https://weraforum.de/event/gebetsgottesdienst-90/
LOCATION:NRW
CATEGORIES:Weekly
END:VEVENT
BEGIN:VEVENT
DTSTART;TZID=Europe/Berlin:20261020T063000
DTEND;TZID=Europe/Berlin:20261020T070000
DTSTAMP:20260422T111420
CREATED:20251121T142922Z
LAST-MODIFIED:20251121T142922Z
UID:363398-1792477800-1792479600@weraforum.de
SUMMARY:Morgengebet
DESCRIPTION:
URL:https://weraforum.de/event/morgengebet-90/
LOCATION:NRW
CATEGORIES:Weekly
END:VEVENT
BEGIN:VEVENT
DTSTART;TZID=Europe/Berlin:20261025T100000
DTEND;TZID=Europe/Berlin:20261025T120000
DTSTAMP:20260422T111420
CREATED:20251121T142922Z
LAST-MODIFIED:20251121T142922Z
UID:363399-1792922400-1792929600@weraforum.de
SUMMARY:Gottesdienst
DESCRIPTION:
URL:https://weraforum.de/event/gottesdienst-91/
LOCATION:NRW
CATEGORIES:Weekly
END:VEVENT
BEGIN:VEVENT
DTSTART;TZID=Europe/Berlin:20261026T180000
DTEND;TZID=Europe/Berlin:20261026T200000
DTSTAMP:20260422T111420
CREATED:20251121T143121Z
LAST-MODIFIED:20251121T143121Z
UID:363401-1793037600-1793044800@weraforum.de
SUMMARY:Gebetsgottesdienst
DESCRIPTION:
URL:https://weraforum.de/event/gebetsgottesdienst-91/
LOCATION:NRW
CATEGORIES:Weekly
END:VEVENT
BEGIN:VEVENT
DTSTART;TZID=Europe/Berlin:20261027T063000
DTEND;TZID=Europe/Berlin:20261027T070000
DTSTAMP:20260422T111420
CREATED:20251121T143121Z
LAST-MODIFIED:20251121T143121Z
UID:363402-1793082600-1793084400@weraforum.de
SUMMARY:Morgengebet
DESCRIPTION:
URL:https://weraforum.de/event/morgengebet-91/
LOCATION:NRW
CATEGORIES:Weekly
END:VEVENT
END:VCALENDAR