BEGIN:VCALENDAR
VERSION:2.0
PRODID:-//WERA Forum - ECPv6.15.20//NONSGML v1.0//EN
CALSCALE:GREGORIAN
METHOD:PUBLISH
X-WR-CALNAME:WERA Forum
X-ORIGINAL-URL:https://weraforum.de
X-WR-CALDESC:Veranstaltungen für WERA Forum
REFRESH-INTERVAL;VALUE=DURATION:PT1H
X-Robots-Tag:noindex
X-PUBLISHED-TTL:PT1H
BEGIN:VTIMEZONE
TZID:Europe/Berlin
BEGIN:DAYLIGHT
TZOFFSETFROM:+0100
TZOFFSETTO:+0200
TZNAME:CEST
DTSTART:20250330T010000
END:DAYLIGHT
BEGIN:STANDARD
TZOFFSETFROM:+0200
TZOFFSETTO:+0100
TZNAME:CET
DTSTART:20251026T010000
END:STANDARD
BEGIN:DAYLIGHT
TZOFFSETFROM:+0100
TZOFFSETTO:+0200
TZNAME:CEST
DTSTART:20260329T010000
END:DAYLIGHT
BEGIN:STANDARD
TZOFFSETFROM:+0200
TZOFFSETTO:+0100
TZNAME:CET
DTSTART:20261025T010000
END:STANDARD
BEGIN:DAYLIGHT
TZOFFSETFROM:+0100
TZOFFSETTO:+0200
TZNAME:CEST
DTSTART:20270328T010000
END:DAYLIGHT
BEGIN:STANDARD
TZOFFSETFROM:+0200
TZOFFSETTO:+0100
TZNAME:CET
DTSTART:20271031T010000
END:STANDARD
END:VTIMEZONE
BEGIN:VEVENT
DTSTART;TZID=Europe/Berlin:20260802T100000
DTEND;TZID=Europe/Berlin:20260802T120000
DTSTAMP:20260420T083826
CREATED:20251121T141111Z
LAST-MODIFIED:20251121T141111Z
UID:363351-1785664800-1785672000@weraforum.de
SUMMARY:Gottesdienst
DESCRIPTION:
URL:https://weraforum.de/event/gottesdienst-79/
LOCATION:NRW
CATEGORIES:Weekly
END:VEVENT
BEGIN:VEVENT
DTSTART;TZID=Europe/Berlin:20260803T180000
DTEND;TZID=Europe/Berlin:20260803T200000
DTSTAMP:20260420T083826
CREATED:20251121T141112Z
LAST-MODIFIED:20251121T141112Z
UID:363353-1785780000-1785787200@weraforum.de
SUMMARY:Gebetsgottesdienst
DESCRIPTION:
URL:https://weraforum.de/event/gebetsgottesdienst-79/
LOCATION:NRW
CATEGORIES:Weekly
END:VEVENT
BEGIN:VEVENT
DTSTART;TZID=Europe/Berlin:20260804T063000
DTEND;TZID=Europe/Berlin:20260804T070000
DTSTAMP:20260420T083826
CREATED:20251121T141112Z
LAST-MODIFIED:20251121T141112Z
UID:363354-1785825000-1785826800@weraforum.de
SUMMARY:Morgengebet
DESCRIPTION:
URL:https://weraforum.de/event/morgengebet-79/
LOCATION:NRW
CATEGORIES:Weekly
END:VEVENT
BEGIN:VEVENT
DTSTART;TZID=Europe/Berlin:20260809T100000
DTEND;TZID=Europe/Berlin:20260809T120000
DTSTAMP:20260420T083826
CREATED:20251121T141113Z
LAST-MODIFIED:20251121T141113Z
UID:363355-1786269600-1786276800@weraforum.de
SUMMARY:Gottesdienst
DESCRIPTION:
URL:https://weraforum.de/event/gottesdienst-80/
LOCATION:NRW
CATEGORIES:Weekly
END:VEVENT
BEGIN:VEVENT
DTSTART;TZID=Europe/Berlin:20260810T180000
DTEND;TZID=Europe/Berlin:20260810T200000
DTSTAMP:20260420T083826
CREATED:20251121T141314Z
LAST-MODIFIED:20251121T141314Z
UID:363357-1786384800-1786392000@weraforum.de
SUMMARY:Gebetsgottesdienst
DESCRIPTION:
URL:https://weraforum.de/event/gebetsgottesdienst-80/
LOCATION:NRW
CATEGORIES:Weekly
END:VEVENT
BEGIN:VEVENT
DTSTART;VALUE=DATE:20260811
DTEND;VALUE=DATE:20260814
DTSTAMP:20260420T083826
CREATED:20251204T192336Z
LAST-MODIFIED:20260301T140442Z
UID:364154-1786406400-1786665599@weraforum.de
SUMMARY:Tanzcamp (Ab 12 Jahren)
DESCRIPTION:Übernachtung im Wera Forum. Schlafsack und Luftmatratze mitnehmen.Ab 12 Jahren.
URL:https://weraforum.de/event/tanzcamp/
LOCATION:Wera Forum Duisburg\, Albert-Hahn-Straße 20\, Duisburg\, NRW\, 47269
CATEGORIES:Events
ATTACH;FMTTYPE=image/webp:https://weraforum.de/wordpress/wp-content/uploads/tanzcamp-2026.webp
END:VEVENT
BEGIN:VEVENT
DTSTART;TZID=Europe/Berlin:20260811T063000
DTEND;TZID=Europe/Berlin:20260811T070000
DTSTAMP:20260420T083826
CREATED:20251121T141314Z
LAST-MODIFIED:20251121T141314Z
UID:363358-1786429800-1786431600@weraforum.de
SUMMARY:Morgengebet
DESCRIPTION:
URL:https://weraforum.de/event/morgengebet-80/
LOCATION:NRW
CATEGORIES:Weekly
END:VEVENT
BEGIN:VEVENT
DTSTART;VALUE=DATE:20260815
DTEND;VALUE=DATE:20260816
DTSTAMP:20260420T083826
CREATED:20251204T192627Z
LAST-MODIFIED:20251204T192627Z
UID:364158-1786752000-1786838399@weraforum.de
SUMMARY:Fußballturnier
DESCRIPTION:
URL:https://weraforum.de/event/fussballturnier/
LOCATION:Wera Forum Duisburg\, Albert-Hahn-Straße 20\, Duisburg\, NRW\, 47269
CATEGORIES:Events
ATTACH;FMTTYPE=image/webp:https://weraforum.de/wordpress/wp-content/uploads/fussball.webp
END:VEVENT
BEGIN:VEVENT
DTSTART;VALUE=DATE:20260816
DTEND;VALUE=DATE:20260823
DTSTAMP:20260420T083826
CREATED:20250614T080257Z
LAST-MODIFIED:20251002T123931Z
UID:361319-1786838400-1787443199@weraforum.de
SUMMARY:Teens Camp
DESCRIPTION:
URL:https://weraforum.de/event/teens-camp-2/
LOCATION:NRW
CATEGORIES:Events
ATTACH;FMTTYPE=image/jpeg:https://weraforum.de/wordpress/wp-content/uploads/teens-camp.jpg
END:VEVENT
BEGIN:VEVENT
DTSTART;VALUE=DATE:20260816
DTEND;VALUE=DATE:20260823
DTSTAMP:20260420T083826
CREATED:20251002T123711Z
LAST-MODIFIED:20251002T123711Z
UID:362172-1786838400-1787443199@weraforum.de
SUMMARY:Youthcamp
DESCRIPTION:
URL:https://weraforum.de/event/youthcamp/
LOCATION:NRW
CATEGORIES:Events
ATTACH;FMTTYPE=image/jpeg:https://weraforum.de/wordpress/wp-content/uploads/teens-camp.jpg
END:VEVENT
BEGIN:VEVENT
DTSTART;TZID=Europe/Berlin:20260816T100000
DTEND;TZID=Europe/Berlin:20260816T120000
DTSTAMP:20260420T083826
CREATED:20251121T141315Z
LAST-MODIFIED:20251121T141315Z
UID:363359-1786874400-1786881600@weraforum.de
SUMMARY:Gottesdienst
DESCRIPTION:
URL:https://weraforum.de/event/gottesdienst-81/
LOCATION:NRW
CATEGORIES:Weekly
END:VEVENT
BEGIN:VEVENT
DTSTART;TZID=Europe/Berlin:20260817T180000
DTEND;TZID=Europe/Berlin:20260817T200000
DTSTAMP:20260420T083826
CREATED:20251121T141513Z
LAST-MODIFIED:20251121T141513Z
UID:363361-1786989600-1786996800@weraforum.de
SUMMARY:Gebetsgottesdienst
DESCRIPTION:
URL:https://weraforum.de/event/gebetsgottesdienst-81/
LOCATION:NRW
CATEGORIES:Weekly
END:VEVENT
BEGIN:VEVENT
DTSTART;TZID=Europe/Berlin:20260818T063000
DTEND;TZID=Europe/Berlin:20260818T070000
DTSTAMP:20260420T083826
CREATED:20251121T141513Z
LAST-MODIFIED:20251121T141513Z
UID:363362-1787034600-1787036400@weraforum.de
SUMMARY:Morgengebet
DESCRIPTION:
URL:https://weraforum.de/event/morgengebet-81/
LOCATION:NRW
CATEGORIES:Weekly
END:VEVENT
BEGIN:VEVENT
DTSTART;VALUE=DATE:20260823
DTEND;VALUE=DATE:20260830
DTSTAMP:20260420T083826
CREATED:20251002T123903Z
LAST-MODIFIED:20251002T123903Z
UID:362176-1787443200-1788047999@weraforum.de
SUMMARY:Lastcamp
DESCRIPTION:
URL:https://weraforum.de/event/lastcamp/
LOCATION:NRW
CATEGORIES:Events
ATTACH;FMTTYPE=image/jpeg:https://weraforum.de/wordpress/wp-content/uploads/teens-camp.jpg
END:VEVENT
BEGIN:VEVENT
DTSTART;TZID=Europe/Berlin:20260823T100000
DTEND;TZID=Europe/Berlin:20260823T120000
DTSTAMP:20260420T083826
CREATED:20251121T141513Z
LAST-MODIFIED:20251121T141513Z
UID:363363-1787479200-1787486400@weraforum.de
SUMMARY:Gottesdienst
DESCRIPTION:
URL:https://weraforum.de/event/gottesdienst-82/
LOCATION:NRW
CATEGORIES:Weekly
END:VEVENT
BEGIN:VEVENT
DTSTART;TZID=Europe/Berlin:20260824T180000
DTEND;TZID=Europe/Berlin:20260824T200000
DTSTAMP:20260420T083826
CREATED:20251121T141514Z
LAST-MODIFIED:20251121T141514Z
UID:363365-1787594400-1787601600@weraforum.de
SUMMARY:Gebetsgottesdienst
DESCRIPTION:
URL:https://weraforum.de/event/gebetsgottesdienst-82/
LOCATION:NRW
CATEGORIES:Weekly
END:VEVENT
BEGIN:VEVENT
DTSTART;TZID=Europe/Berlin:20260825T063000
DTEND;TZID=Europe/Berlin:20260825T070000
DTSTAMP:20260420T083826
CREATED:20251121T141713Z
LAST-MODIFIED:20251121T141713Z
UID:363366-1787639400-1787641200@weraforum.de
SUMMARY:Morgengebet
DESCRIPTION:
URL:https://weraforum.de/event/morgengebet-82/
LOCATION:NRW
CATEGORIES:Weekly
END:VEVENT
BEGIN:VEVENT
DTSTART;TZID=Europe/Berlin:20260830T100000
DTEND;TZID=Europe/Berlin:20260830T120000
DTSTAMP:20260420T083826
CREATED:20251121T141714Z
LAST-MODIFIED:20251121T141714Z
UID:363367-1788084000-1788091200@weraforum.de
SUMMARY:Gottesdienst
DESCRIPTION:
URL:https://weraforum.de/event/gottesdienst-83/
LOCATION:NRW
CATEGORIES:Weekly
END:VEVENT
BEGIN:VEVENT
DTSTART;TZID=Europe/Berlin:20260831T180000
DTEND;TZID=Europe/Berlin:20260831T200000
DTSTAMP:20260420T083826
CREATED:20251121T141715Z
LAST-MODIFIED:20251121T141715Z
UID:363369-1788199200-1788206400@weraforum.de
SUMMARY:Gebetsgottesdienst
DESCRIPTION:
URL:https://weraforum.de/event/gebetsgottesdienst-83/
LOCATION:NRW
CATEGORIES:Weekly
END:VEVENT
END:VCALENDAR