BEGIN:VCALENDAR
VERSION:2.0
PRODID:-//WERA Forum - ECPv6.15.20//NONSGML v1.0//EN
CALSCALE:GREGORIAN
METHOD:PUBLISH
X-ORIGINAL-URL:https://weraforum.de
X-WR-CALDESC:Veranstaltungen für WERA Forum
REFRESH-INTERVAL;VALUE=DURATION:PT1H
X-Robots-Tag:noindex
X-PUBLISHED-TTL:PT1H
BEGIN:VTIMEZONE
TZID:Europe/Berlin
BEGIN:DAYLIGHT
TZOFFSETFROM:+0100
TZOFFSETTO:+0200
TZNAME:CEST
DTSTART:20250330T010000
END:DAYLIGHT
BEGIN:STANDARD
TZOFFSETFROM:+0200
TZOFFSETTO:+0100
TZNAME:CET
DTSTART:20251026T010000
END:STANDARD
BEGIN:DAYLIGHT
TZOFFSETFROM:+0100
TZOFFSETTO:+0200
TZNAME:CEST
DTSTART:20260329T010000
END:DAYLIGHT
BEGIN:STANDARD
TZOFFSETFROM:+0200
TZOFFSETTO:+0100
TZNAME:CET
DTSTART:20261025T010000
END:STANDARD
BEGIN:DAYLIGHT
TZOFFSETFROM:+0100
TZOFFSETTO:+0200
TZNAME:CEST
DTSTART:20270328T010000
END:DAYLIGHT
BEGIN:STANDARD
TZOFFSETFROM:+0200
TZOFFSETTO:+0100
TZNAME:CET
DTSTART:20271031T010000
END:STANDARD
END:VTIMEZONE
BEGIN:VEVENT
DTSTART;VALUE=DATE:20260704
DTEND;VALUE=DATE:20260705
DTSTAMP:20260420T034147
CREATED:20251204T191343Z
LAST-MODIFIED:20251204T191343Z
UID:364145-1783123200-1783209599@weraforum.de
SUMMARY:Taufe
DESCRIPTION:
URL:https://weraforum.de/event/taufe/
LOCATION:Uettelsheimer See\, Uettelsheimer Weg\, Duisburg\, NRW\, 47199\, Deutschland
CATEGORIES:Events
ATTACH;FMTTYPE=image/webp:https://weraforum.de/wordpress/wp-content/uploads/taufe-2023-27.webp
END:VEVENT
BEGIN:VEVENT
DTSTART;TZID=Europe/Berlin:20260705T100000
DTEND;TZID=Europe/Berlin:20260705T120000
DTSTAMP:20260420T034147
CREATED:20251121T140309Z
LAST-MODIFIED:20251121T140309Z
UID:363335-1783245600-1783252800@weraforum.de
SUMMARY:Gottesdienst
DESCRIPTION:
URL:https://weraforum.de/event/gottesdienst-75/
LOCATION:NRW
CATEGORIES:Weekly
END:VEVENT
BEGIN:VEVENT
DTSTART;TZID=Europe/Berlin:20260706T180000
DTEND;TZID=Europe/Berlin:20260706T200000
DTSTAMP:20260420T034147
CREATED:20251121T140509Z
LAST-MODIFIED:20251121T140509Z
UID:363337-1783360800-1783368000@weraforum.de
SUMMARY:Gebetsgottesdienst
DESCRIPTION:
URL:https://weraforum.de/event/gebetsgottesdienst-75/
LOCATION:NRW
CATEGORIES:Weekly
END:VEVENT
BEGIN:VEVENT
DTSTART;TZID=Europe/Berlin:20260707T063000
DTEND;TZID=Europe/Berlin:20260707T070000
DTSTAMP:20260420T034147
CREATED:20251121T140509Z
LAST-MODIFIED:20251121T140509Z
UID:363338-1783405800-1783407600@weraforum.de
SUMMARY:Morgengebet
DESCRIPTION:
URL:https://weraforum.de/event/morgengebet-75/
LOCATION:NRW
CATEGORIES:Weekly
END:VEVENT
BEGIN:VEVENT
DTSTART;VALUE=DATE:20260711
DTEND;VALUE=DATE:20260712
DTSTAMP:20260420T034147
CREATED:20251204T191544Z
LAST-MODIFIED:20251204T191634Z
UID:364149-1783728000-1783814399@weraforum.de
SUMMARY:Youth und Last Sommerparty
DESCRIPTION:
URL:https://weraforum.de/event/youth-und-last-sommerparty/
LOCATION:Wera Forum Duisburg\, Albert-Hahn-Straße 20\, Duisburg\, NRW\, 47269
CATEGORIES:Events
ATTACH;FMTTYPE=image/webp:https://weraforum.de/wordpress/wp-content/uploads/summerparty.webp
END:VEVENT
BEGIN:VEVENT
DTSTART;TZID=Europe/Berlin:20260712T100000
DTEND;TZID=Europe/Berlin:20260712T120000
DTSTAMP:20260420T034147
CREATED:20251121T140510Z
LAST-MODIFIED:20251121T140510Z
UID:363339-1783850400-1783857600@weraforum.de
SUMMARY:Gottesdienst
DESCRIPTION:
URL:https://weraforum.de/event/gottesdienst-76/
LOCATION:NRW
CATEGORIES:Weekly
END:VEVENT
BEGIN:VEVENT
DTSTART;TZID=Europe/Berlin:20260713T180000
DTEND;TZID=Europe/Berlin:20260713T200000
DTSTAMP:20260420T034147
CREATED:20251121T140709Z
LAST-MODIFIED:20251121T140709Z
UID:363341-1783965600-1783972800@weraforum.de
SUMMARY:Gebetsgottesdienst
DESCRIPTION:
URL:https://weraforum.de/event/gebetsgottesdienst-76/
LOCATION:NRW
CATEGORIES:Weekly
END:VEVENT
BEGIN:VEVENT
DTSTART;TZID=Europe/Berlin:20260714T063000
DTEND;TZID=Europe/Berlin:20260714T070000
DTSTAMP:20260420T034147
CREATED:20251121T140709Z
LAST-MODIFIED:20251121T140709Z
UID:363342-1784010600-1784012400@weraforum.de
SUMMARY:Morgengebet
DESCRIPTION:
URL:https://weraforum.de/event/morgengebet-76/
LOCATION:NRW
CATEGORIES:Weekly
END:VEVENT
BEGIN:VEVENT
DTSTART;VALUE=DATE:20260719
DTEND;VALUE=DATE:20260724
DTSTAMP:20260420T034147
CREATED:20251002T123449Z
LAST-MODIFIED:20251204T191749Z
UID:362167-1784419200-1784851199@weraforum.de
SUMMARY:Kidscamp
DESCRIPTION:
URL:https://weraforum.de/event/kidscamp/
LOCATION:NRW
CATEGORIES:Events
ATTACH;FMTTYPE=image/jpeg:https://weraforum.de/wordpress/wp-content/uploads/tanzcamp.jpg
END:VEVENT
BEGIN:VEVENT
DTSTART;TZID=Europe/Berlin:20260719T100000
DTEND;TZID=Europe/Berlin:20260719T120000
DTSTAMP:20260420T034147
CREATED:20251121T140710Z
LAST-MODIFIED:20251121T140710Z
UID:363343-1784455200-1784462400@weraforum.de
SUMMARY:Gottesdienst
DESCRIPTION:
URL:https://weraforum.de/event/gottesdienst-77/
LOCATION:NRW
CATEGORIES:Weekly
END:VEVENT
BEGIN:VEVENT
DTSTART;VALUE=DATE:20260720
DTEND;VALUE=DATE:20260724
DTSTAMP:20260420T034147
CREATED:20260418T104217Z
LAST-MODIFIED:20260418T104357Z
UID:366002-1784505600-1784851199@weraforum.de
SUMMARY:Safaricamp
DESCRIPTION:
URL:https://weraforum.de/event/safaricamp/
LOCATION:Wera Forum Duisburg\, Albert-Hahn-Straße 20\, Duisburg\, NRW\, 47269
CATEGORIES:Events
ATTACH;FMTTYPE=image/jpeg:https://weraforum.de/wordpress/wp-content/uploads/tanzcamp.jpg
END:VEVENT
BEGIN:VEVENT
DTSTART;TZID=Europe/Berlin:20260720T180000
DTEND;TZID=Europe/Berlin:20260720T200000
DTSTAMP:20260420T034147
CREATED:20251121T140710Z
LAST-MODIFIED:20251121T140710Z
UID:363345-1784570400-1784577600@weraforum.de
SUMMARY:Gebetsgottesdienst
DESCRIPTION:
URL:https://weraforum.de/event/gebetsgottesdienst-77/
LOCATION:NRW
CATEGORIES:Weekly
END:VEVENT
BEGIN:VEVENT
DTSTART;TZID=Europe/Berlin:20260721T063000
DTEND;TZID=Europe/Berlin:20260721T070000
DTSTAMP:20260420T034147
CREATED:20251121T140910Z
LAST-MODIFIED:20251121T140910Z
UID:363346-1784615400-1784617200@weraforum.de
SUMMARY:Morgengebet
DESCRIPTION:
URL:https://weraforum.de/event/morgengebet-77/
LOCATION:NRW
CATEGORIES:Weekly
END:VEVENT
BEGIN:VEVENT
DTSTART;TZID=Europe/Berlin:20260726T100000
DTEND;TZID=Europe/Berlin:20260726T120000
DTSTAMP:20260420T034147
CREATED:20251121T140910Z
LAST-MODIFIED:20251121T140910Z
UID:363347-1785060000-1785067200@weraforum.de
SUMMARY:Gottesdienst
DESCRIPTION:
URL:https://weraforum.de/event/gottesdienst-78/
LOCATION:NRW
CATEGORIES:Weekly
END:VEVENT
BEGIN:VEVENT
DTSTART;TZID=Europe/Berlin:20260727T180000
DTEND;TZID=Europe/Berlin:20260727T200000
DTSTAMP:20260420T034147
CREATED:20251121T140911Z
LAST-MODIFIED:20251121T140911Z
UID:363349-1785175200-1785182400@weraforum.de
SUMMARY:Gebetsgottesdienst
DESCRIPTION:
URL:https://weraforum.de/event/gebetsgottesdienst-78/
LOCATION:NRW
CATEGORIES:Weekly
END:VEVENT
BEGIN:VEVENT
DTSTART;TZID=Europe/Berlin:20260728T063000
DTEND;TZID=Europe/Berlin:20260728T070000
DTSTAMP:20260420T034147
CREATED:20251121T140911Z
LAST-MODIFIED:20251121T140911Z
UID:363350-1785220200-1785222000@weraforum.de
SUMMARY:Morgengebet
DESCRIPTION:
URL:https://weraforum.de/event/morgengebet-78/
LOCATION:NRW
CATEGORIES:Weekly
END:VEVENT
END:VCALENDAR