BEGIN:VCALENDAR
VERSION:2.0
PRODID:-//WERA Forum - ECPv6.15.20//NONSGML v1.0//EN
CALSCALE:GREGORIAN
METHOD:PUBLISH
X-ORIGINAL-URL:https://weraforum.de
X-WR-CALDESC:Veranstaltungen für WERA Forum
REFRESH-INTERVAL;VALUE=DURATION:PT1H
X-Robots-Tag:noindex
X-PUBLISHED-TTL:PT1H
BEGIN:VTIMEZONE
TZID:Europe/Berlin
BEGIN:DAYLIGHT
TZOFFSETFROM:+0100
TZOFFSETTO:+0200
TZNAME:CEST
DTSTART:20250330T010000
END:DAYLIGHT
BEGIN:STANDARD
TZOFFSETFROM:+0200
TZOFFSETTO:+0100
TZNAME:CET
DTSTART:20251026T010000
END:STANDARD
BEGIN:DAYLIGHT
TZOFFSETFROM:+0100
TZOFFSETTO:+0200
TZNAME:CEST
DTSTART:20260329T010000
END:DAYLIGHT
BEGIN:STANDARD
TZOFFSETFROM:+0200
TZOFFSETTO:+0100
TZNAME:CET
DTSTART:20261025T010000
END:STANDARD
BEGIN:DAYLIGHT
TZOFFSETFROM:+0100
TZOFFSETTO:+0200
TZNAME:CEST
DTSTART:20270328T010000
END:DAYLIGHT
BEGIN:STANDARD
TZOFFSETFROM:+0200
TZOFFSETTO:+0100
TZNAME:CET
DTSTART:20271031T010000
END:STANDARD
END:VTIMEZONE
BEGIN:VEVENT
DTSTART;VALUE=DATE:20260501
DTEND;VALUE=DATE:20260502
DTSTAMP:20260419T190253
CREATED:20251123T150442Z
LAST-MODIFIED:20251123T150442Z
UID:363575-1777593600-1777679999@weraforum.de
SUMMARY:Leiterschaft Ausflug
DESCRIPTION:
URL:https://weraforum.de/event/leiterschaft-ausflug/
LOCATION:Wera Forum Duisburg\, Albert-Hahn-Straße 20\, Duisburg\, NRW\, 47269
CATEGORIES:Interne Events
END:VEVENT
BEGIN:VEVENT
DTSTART;TZID=Europe/Berlin:20260503T100000
DTEND;TZID=Europe/Berlin:20260503T120000
DTSTAMP:20260419T190253
CREATED:20251121T134901Z
LAST-MODIFIED:20251121T134901Z
UID:363299-1777802400-1777809600@weraforum.de
SUMMARY:Gottesdienst
DESCRIPTION:
URL:https://weraforum.de/event/gottesdienst-66/
LOCATION:NRW
CATEGORIES:Weekly
END:VEVENT
BEGIN:VEVENT
DTSTART;TZID=Europe/Berlin:20260504T180000
DTEND;TZID=Europe/Berlin:20260504T200000
DTSTAMP:20260419T190253
CREATED:20251121T135102Z
LAST-MODIFIED:20260312T074450Z
UID:363301-1777917600-1777924800@weraforum.de
SUMMARY:Gebetsgottesdienst mit Fasten und Abendmahl
DESCRIPTION:
URL:https://weraforum.de/event/gebetsgottesdienst-66/
LOCATION:NRW
CATEGORIES:Weekly
END:VEVENT
BEGIN:VEVENT
DTSTART;TZID=Europe/Berlin:20260504T180000
DTEND;TZID=Europe/Berlin:20260504T200000
DTSTAMP:20260419T190253
CREATED:20260312T074416Z
LAST-MODIFIED:20260312T074416Z
UID:365790-1777917600-1777924800@weraforum.de
SUMMARY:Sohnschaft Schule
DESCRIPTION:
URL:https://weraforum.de/event/sohnschaft-schule-9/
LOCATION:Wera Forum Duisburg\, Albert-Hahn-Straße 20\, Duisburg\, NRW\, 47269
CATEGORIES:Weekly
END:VEVENT
BEGIN:VEVENT
DTSTART;TZID=Europe/Berlin:20260505T063000
DTEND;TZID=Europe/Berlin:20260505T070000
DTSTAMP:20260419T190253
CREATED:20251121T135102Z
LAST-MODIFIED:20251121T135102Z
UID:363302-1777962600-1777964400@weraforum.de
SUMMARY:Morgengebet
DESCRIPTION:
URL:https://weraforum.de/event/morgengebet-66/
LOCATION:NRW
CATEGORIES:Weekly
END:VEVENT
BEGIN:VEVENT
DTSTART;TZID=Europe/Berlin:20260508T183000
DTEND;TZID=Europe/Berlin:20260508T203000
DTSTAMP:20260419T190253
CREATED:20260312T074541Z
LAST-MODIFIED:20260312T074541Z
UID:365797-1778265000-1778272200@weraforum.de
SUMMARY:Leiterschaft
DESCRIPTION:
URL:https://weraforum.de/event/leiterschaft/
LOCATION:Wera Forum Duisburg\, Albert-Hahn-Straße 20\, Duisburg\, NRW\, 47269
CATEGORIES:Interne Events
END:VEVENT
BEGIN:VEVENT
DTSTART;TZID=Europe/Berlin:20260510T100000
DTEND;TZID=Europe/Berlin:20260510T120000
DTSTAMP:20260419T190253
CREATED:20251121T135102Z
LAST-MODIFIED:20251121T135102Z
UID:363303-1778407200-1778414400@weraforum.de
SUMMARY:Gottesdienst
DESCRIPTION:
URL:https://weraforum.de/event/gottesdienst-67/
LOCATION:NRW
CATEGORIES:Weekly
END:VEVENT
BEGIN:VEVENT
DTSTART;TZID=Europe/Berlin:20260511T180000
DTEND;TZID=Europe/Berlin:20260511T200000
DTSTAMP:20260419T190253
CREATED:20251121T135103Z
LAST-MODIFIED:20251121T135103Z
UID:363305-1778522400-1778529600@weraforum.de
SUMMARY:Gebetsgottesdienst
DESCRIPTION:
URL:https://weraforum.de/event/gebetsgottesdienst-67/
LOCATION:NRW
CATEGORIES:Weekly
END:VEVENT
BEGIN:VEVENT
DTSTART;TZID=Europe/Berlin:20260511T180000
DTEND;TZID=Europe/Berlin:20260511T200000
DTSTAMP:20260419T190253
CREATED:20260312T074724Z
LAST-MODIFIED:20260312T074724Z
UID:365801-1778522400-1778529600@weraforum.de
SUMMARY:Sohnschaft Schule
DESCRIPTION:
URL:https://weraforum.de/event/sohnschaft-schule-10/
LOCATION:Wera Forum Duisburg\, Albert-Hahn-Straße 20\, Duisburg\, NRW\, 47269
CATEGORIES:Weekly
END:VEVENT
BEGIN:VEVENT
DTSTART;TZID=Europe/Berlin:20260512T063000
DTEND;TZID=Europe/Berlin:20260512T070000
DTSTAMP:20260419T190253
CREATED:20251121T135302Z
LAST-MODIFIED:20251121T135302Z
UID:363306-1778567400-1778569200@weraforum.de
SUMMARY:Morgengebet
DESCRIPTION:
URL:https://weraforum.de/event/morgengebet-67/
LOCATION:NRW
CATEGORIES:Weekly
END:VEVENT
BEGIN:VEVENT
DTSTART;VALUE=DATE:20260514
DTEND;VALUE=DATE:20260517
DTSTAMP:20260419T190253
CREATED:20251204T184010Z
LAST-MODIFIED:20251204T184010Z
UID:364124-1778716800-1778975999@weraforum.de
SUMMARY:Wild Life
DESCRIPTION:
URL:https://weraforum.de/event/wild-life/
LOCATION:Wera Forum Duisburg\, Albert-Hahn-Straße 20\, Duisburg\, NRW\, 47269
CATEGORIES:Interne Events
END:VEVENT
BEGIN:VEVENT
DTSTART;TZID=Europe/Berlin:20260516T090000
DTEND;TZID=Europe/Berlin:20260516T180000
DTSTAMP:20260419T190253
CREATED:20260312T074931Z
LAST-MODIFIED:20260312T074931Z
UID:365809-1778922000-1778954400@weraforum.de
SUMMARY:Bautag
DESCRIPTION:
URL:https://weraforum.de/event/bautag-3/
LOCATION:Wera Forum Duisburg\, Albert-Hahn-Straße 20\, Duisburg\, NRW\, 47269
CATEGORIES:Interne Events
END:VEVENT
BEGIN:VEVENT
DTSTART;TZID=Europe/Berlin:20260517T100000
DTEND;TZID=Europe/Berlin:20260517T120000
DTSTAMP:20260419T190253
CREATED:20251121T135302Z
LAST-MODIFIED:20251121T135302Z
UID:363307-1779012000-1779019200@weraforum.de
SUMMARY:Gottesdienst
DESCRIPTION:
URL:https://weraforum.de/event/gottesdienst-68/
LOCATION:NRW
CATEGORIES:Weekly
END:VEVENT
BEGIN:VEVENT
DTSTART;TZID=Europe/Berlin:20260518T180000
DTEND;TZID=Europe/Berlin:20260518T200000
DTSTAMP:20260419T190253
CREATED:20251121T135303Z
LAST-MODIFIED:20251121T135303Z
UID:363309-1779127200-1779134400@weraforum.de
SUMMARY:Gebetsgottesdienst
DESCRIPTION:
URL:https://weraforum.de/event/gebetsgottesdienst-68/
LOCATION:NRW
CATEGORIES:Weekly
END:VEVENT
BEGIN:VEVENT
DTSTART;TZID=Europe/Berlin:20260518T180000
DTEND;TZID=Europe/Berlin:20260518T200000
DTSTAMP:20260419T190253
CREATED:20260312T075111Z
LAST-MODIFIED:20260312T075111Z
UID:365813-1779127200-1779134400@weraforum.de
SUMMARY:Sohnschaft Schule
DESCRIPTION:
URL:https://weraforum.de/event/sohnschaft-schule-11/
LOCATION:Wera Forum Duisburg\, Albert-Hahn-Straße 20\, Duisburg\, NRW\, 47269
CATEGORIES:Interne Events
END:VEVENT
BEGIN:VEVENT
DTSTART;TZID=Europe/Berlin:20260519T063000
DTEND;TZID=Europe/Berlin:20260519T070000
DTSTAMP:20260419T190253
CREATED:20251121T135303Z
LAST-MODIFIED:20251121T135303Z
UID:363310-1779172200-1779174000@weraforum.de
SUMMARY:Morgengebet
DESCRIPTION:
URL:https://weraforum.de/event/morgengebet-68/
LOCATION:NRW
CATEGORIES:Weekly
END:VEVENT
BEGIN:VEVENT
DTSTART;VALUE=DATE:20260521
DTEND;VALUE=DATE:20260524
DTSTAMP:20260419T190253
CREATED:20251204T184051Z
LAST-MODIFIED:20251204T184051Z
UID:364128-1779321600-1779580799@weraforum.de
SUMMARY:Begegnung mit Gott
DESCRIPTION:
URL:https://weraforum.de/event/begegnung-mit-gott/
LOCATION:Wera Forum Duisburg\, Albert-Hahn-Straße 20\, Duisburg\, NRW\, 47269
CATEGORIES:Interne Events
END:VEVENT
BEGIN:VEVENT
DTSTART;TZID=Europe/Berlin:20260524T100000
DTEND;TZID=Europe/Berlin:20260524T120000
DTSTAMP:20260419T190253
CREATED:20251121T135503Z
LAST-MODIFIED:20251121T135503Z
UID:363311-1779616800-1779624000@weraforum.de
SUMMARY:Gottesdienst
DESCRIPTION:
URL:https://weraforum.de/event/gottesdienst-69/
LOCATION:NRW
CATEGORIES:Weekly
END:VEVENT
BEGIN:VEVENT
DTSTART;TZID=Europe/Berlin:20260525T180000
DTEND;TZID=Europe/Berlin:20260525T200000
DTSTAMP:20260419T190253
CREATED:20251121T135504Z
LAST-MODIFIED:20260312T075352Z
UID:363313-1779732000-1779739200@weraforum.de
SUMMARY:Kein Gebetsgottesdienst
DESCRIPTION:
URL:https://weraforum.de/event/gebetsgottesdienst-69/
LOCATION:NRW
CATEGORIES:Weekly
END:VEVENT
BEGIN:VEVENT
DTSTART;TZID=Europe/Berlin:20260526T063000
DTEND;TZID=Europe/Berlin:20260526T070000
DTSTAMP:20260419T190253
CREATED:20251121T135504Z
LAST-MODIFIED:20251121T135504Z
UID:363314-1779777000-1779778800@weraforum.de
SUMMARY:Morgengebet
DESCRIPTION:
URL:https://weraforum.de/event/morgengebet-69/
LOCATION:NRW
CATEGORIES:Weekly
END:VEVENT
BEGIN:VEVENT
DTSTART;TZID=Europe/Berlin:20260529T180000
DTEND;TZID=Europe/Berlin:20260529T200000
DTSTAMP:20260419T190253
CREATED:20260312T075434Z
LAST-MODIFIED:20260312T075434Z
UID:365817-1780077600-1780084800@weraforum.de
SUMMARY:Youth/Last Event
DESCRIPTION:
URL:https://weraforum.de/event/youth-last-event/
LOCATION:Wera Forum Duisburg\, Albert-Hahn-Straße 20\, Duisburg\, NRW\, 47269
CATEGORIES:Interne Events
END:VEVENT
BEGIN:VEVENT
DTSTART;TZID=Europe/Berlin:20260531T100000
DTEND;TZID=Europe/Berlin:20260531T120000
DTSTAMP:20260419T190253
CREATED:20251121T135505Z
LAST-MODIFIED:20260312T075535Z
UID:363315-1780221600-1780228800@weraforum.de
SUMMARY:Gottesdienst mit Glaubensübergang
DESCRIPTION:
URL:https://weraforum.de/event/gottesdienst-70/
LOCATION:NRW
CATEGORIES:Weekly
END:VEVENT
END:VCALENDAR