BEGIN:VCALENDAR
VERSION:2.0
PRODID:-//WERA Forum - ECPv6.15.20//NONSGML v1.0//EN
CALSCALE:GREGORIAN
METHOD:PUBLISH
X-ORIGINAL-URL:https://weraforum.de
X-WR-CALDESC:Veranstaltungen für WERA Forum
REFRESH-INTERVAL;VALUE=DURATION:PT1H
X-Robots-Tag:noindex
X-PUBLISHED-TTL:PT1H
BEGIN:VTIMEZONE
TZID:Europe/Berlin
BEGIN:DAYLIGHT
TZOFFSETFROM:+0100
TZOFFSETTO:+0200
TZNAME:CEST
DTSTART:20250330T010000
END:DAYLIGHT
BEGIN:STANDARD
TZOFFSETFROM:+0200
TZOFFSETTO:+0100
TZNAME:CET
DTSTART:20251026T010000
END:STANDARD
BEGIN:DAYLIGHT
TZOFFSETFROM:+0100
TZOFFSETTO:+0200
TZNAME:CEST
DTSTART:20260329T010000
END:DAYLIGHT
BEGIN:STANDARD
TZOFFSETFROM:+0200
TZOFFSETTO:+0100
TZNAME:CET
DTSTART:20261025T010000
END:STANDARD
BEGIN:DAYLIGHT
TZOFFSETFROM:+0100
TZOFFSETTO:+0200
TZNAME:CEST
DTSTART:20270328T010000
END:DAYLIGHT
BEGIN:STANDARD
TZOFFSETFROM:+0200
TZOFFSETTO:+0100
TZNAME:CET
DTSTART:20271031T010000
END:STANDARD
END:VTIMEZONE
BEGIN:VEVENT
DTSTART;VALUE=DATE:20260227
DTEND;VALUE=DATE:20260301
DTSTAMP:20260420T035257
CREATED:20251204T182550Z
LAST-MODIFIED:20260224T074546Z
UID:364105-1772150400-1772323199@weraforum.de
SUMMARY:SHINE Jugenkonferenz 2026 (Ab 12 Jahren)
DESCRIPTION:Wenn dein Glaube niemanden stört\, dann ist er längst erloschen.\nWenn alles nur noch bequem ist\, dann hast du das Feuer Gottes irgendwann verloren.\nWas ist übrig geblieben?\nKälte und Routinen.Kennst du das?\nDu willst mehr von Gott\, aber du fühlst nichts.\nUnd wenn du wirklich ehrlich bist:Du hast dich an lauwarm gewöhnt:Reels. Shorts. Netflix – Dopamin für den Moment\, Leere für den restlichen Tag.\nAber Gott hat dich nicht für den „Survival Mode“ geschaffen.\nSondern um für ihn zu brennen:\n„Von den Engeln zwar sagt er: »Er macht seine Engel zu Winden und seine Diener zu Feuerflammen«;“Hebräerbrief 1:7 SCH2000\nNicht Asche – sondern Feuerflammen.\nAber was wäre\, wenn Gott dein Herz wieder „on fire“ bringt?\nWäre „bequem“ immer noch gut genug für dich?\n„On Fire“ bedeutet nicht\, dass du perfekt sein musst.\n„On Fire“ bedeutet\, dass Gott sein Feuer in dir entzündet:Mit seinem Geist.Mit seiner Kraft.Mit seiner Liebe.\nWas würde sich dann bei dir ändern – und was würdest du in seiner Kraft ändern?\nWenn du brennst\, die Antwort zu erfahren:\nMelde dich für die SHINE Jugendkonferenz 2026 an.\nUnter dem Motto:\nOn Fire.\n  \nAblauf:\n\n\n\n\nFreitag\n\n\n19:00 Uhr bis 21:00 Uhr Gottesdienst\n\n\n\n\nSamstag\n\n\n10:00 – 12:30 Gottesdienst\n12:30 – 14:00 Pause\n14:00 – 15:00 Seminare\n15:00 – 16:00 Pause\n16:00 – 19:00 Gottesdienst\n\n\n\n\n\nTicket Preise (Ab 12 Jahren):Early Bird bis 15.02.: 10€Regulär ab 16.02. bis 25.02.: 13€Abendkasse: 15€
URL:https://weraforum.de/event/shine-2026/
LOCATION:Wera Forum Duisburg\, Albert-Hahn-Straße 20\, Duisburg\, NRW\, 47269
CATEGORIES:Konferenz
ATTACH;FMTTYPE=image/webp:https://weraforum.de/wordpress/wp-content/uploads/2026_shine_konferenz.webp
END:VEVENT
END:VCALENDAR