BEGIN:VCALENDAR
VERSION:2.0
PRODID:-//WERA Forum - ECPv6.15.20//NONSGML v1.0//EN
CALSCALE:GREGORIAN
METHOD:PUBLISH
X-ORIGINAL-URL:https://weraforum.de
X-WR-CALDESC:Veranstaltungen für WERA Forum
REFRESH-INTERVAL;VALUE=DURATION:PT1H
X-Robots-Tag:noindex
X-PUBLISHED-TTL:PT1H
BEGIN:VTIMEZONE
TZID:Europe/Berlin
BEGIN:DAYLIGHT
TZOFFSETFROM:+0100
TZOFFSETTO:+0200
TZNAME:CEST
DTSTART:20250330T010000
END:DAYLIGHT
BEGIN:STANDARD
TZOFFSETFROM:+0200
TZOFFSETTO:+0100
TZNAME:CET
DTSTART:20251026T010000
END:STANDARD
BEGIN:DAYLIGHT
TZOFFSETFROM:+0100
TZOFFSETTO:+0200
TZNAME:CEST
DTSTART:20260329T010000
END:DAYLIGHT
BEGIN:STANDARD
TZOFFSETFROM:+0200
TZOFFSETTO:+0100
TZNAME:CET
DTSTART:20261025T010000
END:STANDARD
BEGIN:DAYLIGHT
TZOFFSETFROM:+0100
TZOFFSETTO:+0200
TZNAME:CEST
DTSTART:20270328T010000
END:DAYLIGHT
BEGIN:STANDARD
TZOFFSETFROM:+0200
TZOFFSETTO:+0100
TZNAME:CET
DTSTART:20271031T010000
END:STANDARD
END:VTIMEZONE
BEGIN:VEVENT
DTSTART;TZID=Europe/Berlin:20260221T090000
DTEND;TZID=Europe/Berlin:20260221T180000
DTSTAMP:20260420T000457
CREATED:20251216T145204Z
LAST-MODIFIED:20251216T145204Z
UID:364382-1771664400-1771696800@weraforum.de
SUMMARY:Bautag
DESCRIPTION:
URL:https://weraforum.de/event/bautag-4/
LOCATION:Wera Forum Duisburg\, Albert-Hahn-Straße 20\, Duisburg\, NRW\, 47269
CATEGORIES:Interne Events
END:VEVENT
BEGIN:VEVENT
DTSTART;TZID=Europe/Berlin:20260221T100000
DTEND;TZID=Europe/Berlin:20260221T120000
DTSTAMP:20260420T000457
CREATED:20251216T145311Z
LAST-MODIFIED:20260209T124720Z
UID:364386-1771668000-1771675200@weraforum.de
SUMMARY:Seniorenfrühstück
DESCRIPTION:
URL:https://weraforum.de/event/seniorenfruehstueck-3/
LOCATION:Wera Forum Duisburg\, Albert-Hahn-Straße 20\, Duisburg\, NRW\, 47269
CATEGORIES:Events
ATTACH;FMTTYPE=image/webp:https://weraforum.de/wordpress/wp-content/uploads/senioren_fruehstueck_februar.webp
END:VEVENT
END:VCALENDAR